BEGIN:VCALENDAR
VERSION:2.0
PRODID:-//time.now/holidays//NONSGML v1.0//EN
BEGIN:VEVENT
UID:ade528d8-1e6e-4e47-9411-450fae491ca1
DTSTAMP:20260422T223827Z
DTSTART;VALUE=DATE:20261005
SUMMARY:Frances Xavier Cabrini Day (États-Unis)
END:VEVENT
END:VCALENDAR