BEGIN:VCALENDAR
VERSION:2.0
PRODID:-//time.now/holidays//NONSGML v1.0//EN
BEGIN:VEVENT
UID:886b6d39-6e5e-4445-940c-a661d13ac34c
DTSTAMP:20260422T104541Z
DTSTART;VALUE=DATE:20260119
SUMMARY:Dr. Martin Luther King Jr. and Robert E. Lee's Birthdays (États-Unis)
END:VEVENT
END:VCALENDAR