BEGIN:VCALENDAR
VERSION:2.0
PRODID:-//time.now/holidays//NONSGML v1.0//EN
BEGIN:VEVENT
UID:37a8c9f4-0357-45ac-a760-9630fa5b7864
DTSTAMP:20260420T200445Z
DTSTART;VALUE=DATE:20260324
SUMMARY:Commonwealth Covenant Day (États-Unis)
END:VEVENT
END:VCALENDAR