BEGIN:VCALENDAR
VERSION:2.0
PRODID:-//time.now/holidays//NONSGML v1.0//EN
BEGIN:VEVENT
UID:7c17c2d5-df4d-491b-af4d-c5b552bd7a40
DTSTAMP:20260421T035631Z
DTSTART;VALUE=DATE:20261012
SUMMARY:Columbus Day / American Indian Heritage Day / Fraternal Day (États-Unis)
END:VEVENT
END:VCALENDAR