BEGIN:VCALENDAR
VERSION:2.0
PRODID:-//time.now/holidays//NONSGML v1.0//EN
BEGIN:VEVENT
UID:57afc48a-c649-4652-8e9a-e173ae01030e
DTSTAMP:20260420T215647Z
DTSTART;VALUE=DATE:20261102
SUMMARY:All Souls' Day (États-Unis)
END:VEVENT
END:VCALENDAR