BEGIN:VCALENDAR
VERSION:2.0
PRODID:-//time.now/holidays//NONSGML v1.0//EN
BEGIN:VEVENT
UID:049fbd2c-fd78-4421-9bdd-c3c1309a93b5
DTSTAMP:20260422T205812Z
DTSTART;VALUE=DATE:20260216
SUMMARY:Washington's Birthday (Îles mineures éloignées des États-Unis)
END:VEVENT
END:VCALENDAR