BEGIN:VCALENDAR
VERSION:2.0
PRODID:-//time.now/holidays//NONSGML v1.0//EN
BEGIN:VEVENT
UID:098b7340-d5e7-47fb-a14a-f5fb306f2497
DTSTAMP:20260422T205818Z
DTSTART;VALUE=DATE:20261126
SUMMARY:Thanksgiving Day (Îles mineures éloignées des États-Unis)
END:VEVENT
END:VCALENDAR