BEGIN:VCALENDAR
VERSION:2.0
PRODID:-//time.now/holidays//NONSGML v1.0//EN
BEGIN:VEVENT
UID:88a7e2a9-6740-43db-8bd7-b7522fb29a8d
DTSTAMP:20260422T102512Z
DTSTART;VALUE=DATE:20260619
SUMMARY:Juneteenth National Independence Day (Îles mineures éloignées des États-Unis)
END:VEVENT
END:VCALENDAR