BEGIN:VCALENDAR
VERSION:2.0
PRODID:-//time.now/holidays//NONSGML v1.0//EN
BEGIN:VEVENT
UID:906e7488-bea3-47ce-bf6f-2eaef3327ebd
DTSTAMP:20260422T114642Z
DTSTART;VALUE=DATE:20270618
SUMMARY:Juneteenth National Independence Day (observed) (Îles mineures éloignées des États-Unis)
END:VEVENT
END:VCALENDAR