BEGIN:VCALENDAR
VERSION:2.0
PRODID:-//time.now/holidays//NONSGML v1.0//EN
BEGIN:VEVENT
UID:bf6fd3dd-da09-4dc4-b6e3-3508ee06c9d8
DTSTAMP:20260422T092032Z
DTSTART;VALUE=DATE:20260803
SUMMARY:Summer Bank Holiday (Royaume-Uni)
END:VEVENT
END:VCALENDAR