BEGIN:VCALENDAR
VERSION:2.0
PRODID:-//time.now/holidays//NONSGML v1.0//EN
BEGIN:VEVENT
UID:7f451331-12e7-4163-a784-a02917a3cd0d
DTSTAMP:20260422T223833Z
DTSTART;VALUE=DATE:20260525
SUMMARY:Spring Bank Holiday (Royaume-Uni)
END:VEVENT
END:VCALENDAR