BEGIN:VCALENDAR
VERSION:2.0
PRODID:-//time.now/holidays//NONSGML v1.0//EN
BEGIN:VEVENT
UID:c8c5e0c4-102c-4c1a-84e4-7df89dcfd48c
DTSTAMP:20260420T215648Z
DTSTART;VALUE=DATE:20261130
SUMMARY:Saint Andrew's Day (Royaume-Uni)
END:VEVENT
END:VCALENDAR