BEGIN:VCALENDAR
VERSION:2.0
PRODID:-//time.now/holidays//NONSGML v1.0//EN
BEGIN:VEVENT
UID:7bdf3dc7-9ef0-4707-a63b-c50ce7d56d36
DTSTAMP:20260422T090339Z
DTSTART;VALUE=DATE:20301202
SUMMARY:Saint Andrew's Day (observed) (Royaume-Uni)
END:VEVENT
END:VCALENDAR