BEGIN:VCALENDAR
VERSION:2.0
PRODID:-//time.now/holidays//NONSGML v1.0//EN
BEGIN:VEVENT
UID:193943d8-8793-414e-b89d-596f18ac412b
DTSTAMP:20260420T095551Z
DTSTART;VALUE=DATE:20260406
SUMMARY:Easter Monday (Royaume-Uni)
END:VEVENT
END:VCALENDAR