BEGIN:VCALENDAR
VERSION:2.0
PRODID:-//time.now/holidays//NONSGML v1.0//EN
BEGIN:VEVENT
UID:a39435bb-fdd1-4c83-afa8-3c584c6acbff
DTSTAMP:20260422T151414Z
DTSTART;VALUE=DATE:20230508
SUMMARY:Coronation of Charles III (Royaume-Uni)
END:VEVENT
END:VCALENDAR