BEGIN:VCALENDAR
VERSION:2.0
PRODID:-//time.now/holidays//NONSGML v1.0//EN
BEGIN:VEVENT
UID:0d76112b-d657-40af-bc35-69b815c91c60
DTSTAMP:20260423T014430Z
DTSTART;VALUE=DATE:20260712
SUMMARY:Battle of the Boyne (Royaume-Uni)
END:VEVENT
END:VCALENDAR