BEGIN:VCALENDAR
VERSION:2.0
PRODID:-//time.now/holidays//NONSGML v1.0//EN
BEGIN:VEVENT
UID:46fa5119-3858-4342-be05-6d9ec3d8bb14
DTSTAMP:20260420T215633Z
DTSTART;VALUE=DATE:20250905
SUMMARY:Prophet's Birthday (Émirats Arabes Unis)
END:VEVENT
END:VCALENDAR