BEGIN:VCALENDAR
VERSION:2.0
PRODID:-//time.now/holidays//NONSGML v1.0//EN
BEGIN:VEVENT
UID:f524b2e1-13a3-4bcf-9b9c-0322cca8f8ab
DTSTAMP:20260420T215500Z
DTSTART;VALUE=DATE:20261202
SUMMARY:National Day (Émirats Arabes Unis)
END:VEVENT
END:VCALENDAR