BEGIN:VCALENDAR
VERSION:2.0
PRODID:-//time.now/holidays//NONSGML v1.0//EN
BEGIN:VEVENT
UID:d7f4a3f3-caaa-4a15-bc25-9c42af58b1ee
DTSTAMP:20260422T193241Z
DTSTART;VALUE=DATE:20250330
SUMMARY:Eid al-Fitr (Émirats Arabes Unis)
END:VEVENT
END:VCALENDAR