BEGIN:VCALENDAR
VERSION:2.0
PRODID:-//time.now/holidays//NONSGML v1.0//EN
BEGIN:VEVENT
UID:85977ac1-6b68-4da3-ac67-43f7d3752204
DTSTAMP:20260422T105301Z
DTSTART;VALUE=DATE:20250331
SUMMARY:Eid al-Fitr Holiday (Émirats Arabes Unis)
END:VEVENT
END:VCALENDAR