BEGIN:VCALENDAR
VERSION:2.0
PRODID:-//time.now/holidays//NONSGML v1.0//EN
BEGIN:VEVENT
UID:95f3dd65-f00f-4d34-bed4-c07deb82d860
DTSTAMP:20260422T090721Z
DTSTART;VALUE=DATE:20260320
SUMMARY:Eid al-Fitr (estimated) (Émirats Arabes Unis)
END:VEVENT
END:VCALENDAR