BEGIN:VCALENDAR
VERSION:2.0
PRODID:-//time.now/holidays//NONSGML v1.0//EN
BEGIN:VEVENT
UID:8da61f01-b754-455f-aa42-0331d43135a3
DTSTAMP:20260422T193217Z
DTSTART;VALUE=DATE:20250604
SUMMARY:Eid al-Adha (Émirats Arabes Unis)
END:VEVENT
END:VCALENDAR