BEGIN:VCALENDAR
VERSION:2.0
PRODID:-//time.now/holidays//NONSGML v1.0//EN
BEGIN:VEVENT
UID:7fab4b81-c399-49a7-91e4-ac07c2ed2174
DTSTAMP:20260422T084143Z
DTSTART;VALUE=DATE:20260527
SUMMARY:Eid al-Adha (estimated) (Émirats Arabes Unis)
END:VEVENT
END:VCALENDAR