BEGIN:VCALENDAR
VERSION:2.0
PRODID:-//time.now/holidays//NONSGML v1.0//EN
BEGIN:VEVENT
UID:e3c1f164-787a-47d6-bb81-ba81fe5da65a
DTSTAMP:20260422T105119Z
DTSTART;VALUE=DATE:20220514
SUMMARY:Death of Sheikh Khalifa bin Zayed Al Nahyan (Émirats Arabes Unis)
END:VEVENT
END:VCALENDAR