BEGIN:VCALENDAR
VERSION:2.0
PRODID:-//time.now/holidays//NONSGML v1.0//EN
BEGIN:VEVENT
UID:4a6751af-95c7-4e81-a8b3-9acd13dea568
DTSTAMP:20260420T212936Z
DTSTART;VALUE=DATE:20231201
SUMMARY:Commemoration Day (Émirats Arabes Unis)
END:VEVENT
END:VCALENDAR