BEGIN:VCALENDAR
VERSION:2.0
PRODID:-//time.now/holidays//NONSGML v1.0//EN
BEGIN:VEVENT
UID:a53955d3-de25-4684-abcf-2b16a1fc2893
DTSTAMP:20260420T215308Z
DTSTART;VALUE=DATE:20220308
SUMMARY:International Women's Day (Ukraine)
END:VEVENT
END:VCALENDAR