BEGIN:VCALENDAR
VERSION:2.0
PRODID:-//time.now/holidays//NONSGML v1.0//EN
BEGIN:VEVENT
UID:2d1ec508-b058-42ac-8238-6b3e0903881c
DTSTAMP:20260420T054228Z
DTSTART;VALUE=DATE:20210502
SUMMARY:Easter Sunday (Pascha) (Ukraine)
END:VEVENT
END:VCALENDAR