BEGIN:VCALENDAR
VERSION:2.0
PRODID:-//time.now/holidays//NONSGML v1.0//EN
BEGIN:VEVENT
UID:07053748-ab9f-4a2b-8937-34d75e5025f1
DTSTAMP:20260421T024230Z
DTSTART;VALUE=DATE:20210510
SUMMARY:Day of Victory over Nazism in World War II (Victory Day) (observed) (Ukraine)
END:VEVENT
END:VCALENDAR