BEGIN:VCALENDAR
VERSION:2.0
PRODID:-//time.now/holidays//NONSGML v1.0//EN
BEGIN:VEVENT
UID:742984a2-afb5-4b01-8188-563967a1b1d7
DTSTAMP:20260422T085705Z
DTSTART;VALUE=DATE:20260216
SUMMARY:Presidents' Day (Îles Vierges des États-Unis)
END:VEVENT
END:VCALENDAR