BEGIN:VCALENDAR
VERSION:2.0
PRODID:-//time.now/holidays//NONSGML v1.0//EN
BEGIN:VEVENT
UID:4095791f-0788-4dd7-b21a-1a79a2ce4747
DTSTAMP:20260422T090606Z
DTSTART;VALUE=DATE:20271231
SUMMARY:New Year's Day (observed) (Îles Vierges des États-Unis)
END:VEVENT
END:VCALENDAR