BEGIN:VCALENDAR
VERSION:2.0
PRODID:-//time.now/holidays//NONSGML v1.0//EN
BEGIN:VEVENT
UID:0b0b3238-c943-404d-821b-6396b16ae644
DTSTAMP:20260421T005752Z
DTSTART;VALUE=DATE:20260119
SUMMARY:Martin Luther King Jr. Day (Îles Vierges des États-Unis)
END:VEVENT
END:VCALENDAR