BEGIN:VCALENDAR
VERSION:2.0
PRODID:-//time.now/holidays//NONSGML v1.0//EN
BEGIN:VEVENT
UID:c935f8a0-9cfd-4145-9e26-e9c5ba280037
DTSTAMP:20260420T152650Z
DTSTART;VALUE=DATE:20260406
SUMMARY:Easter Monday (Îles Vierges des États-Unis)
END:VEVENT
END:VCALENDAR