BEGIN:VCALENDAR
VERSION:2.0
PRODID:-//time.now/holidays//NONSGML v1.0//EN
BEGIN:VEVENT
UID:97939258-fb29-414b-8f79-20fdf9fda05c
DTSTAMP:20260420T214632Z
DTSTART;VALUE=DATE:20261225
SUMMARY:Christmas Day (Îles Vierges des États-Unis)
END:VEVENT
END:VCALENDAR