BEGIN:VCALENDAR
VERSION:2.0
PRODID:-//time.now/holidays//NONSGML v1.0//EN
BEGIN:VEVENT
UID:c0a05ac8-df74-4653-8c05-cbc1b139a4ae
DTSTAMP:20260422T025631Z
DTSTART;VALUE=DATE:20271224
SUMMARY:Christmas Day (observed) (Îles Vierges des États-Unis)
END:VEVENT
END:VCALENDAR