BEGIN:VCALENDAR
VERSION:2.0
PRODID:-//time.now/holidays//NONSGML v1.0//EN
BEGIN:VEVENT
UID:83c9a6d2-334c-47c5-a8b3-ebe7a769e293
DTSTAMP:20260421T003918Z
DTSTART;VALUE=DATE:20331226
SUMMARY:Christmas Day (observed); Christmas Second Day (Îles Vierges des États-Unis)
END:VEVENT
END:VCALENDAR