BEGIN:VCALENDAR
VERSION:2.0
PRODID:-//time.now/holidays//NONSGML v1.0//EN
BEGIN:VEVENT
UID:9ac7d7bf-ce5a-4fdc-b729-abc4978aa77e
DTSTAMP:20260420T162510Z
DTSTART;VALUE=DATE:20261001
SUMMARY:Tuvalu Day (Tuvalu)
END:VEVENT
END:VCALENDAR