BEGIN:VCALENDAR
VERSION:2.0
PRODID:-//time.now/holidays//NONSGML v1.0//EN
BEGIN:VEVENT
UID:4ae8053e-d811-4951-b69a-2fb58bbfd353
DTSTAMP:20260420T184810Z
DTSTART;VALUE=DATE:20271004
SUMMARY:Tuvalu Day (observed) (Tuvalu)
END:VEVENT
END:VCALENDAR