BEGIN:VCALENDAR
VERSION:2.0
PRODID:-//time.now/holidays//NONSGML v1.0//EN
BEGIN:VEVENT
UID:c27ba108-6a2c-4fb3-8813-7dc122cce218
DTSTAMP:20260422T083711Z
DTSTART;VALUE=DATE:20260803
SUMMARY:National Youth Day (Tuvalu)
END:VEVENT
END:VCALENDAR