BEGIN:VCALENDAR
VERSION:2.0
PRODID:-//time.now/holidays//NONSGML v1.0//EN
BEGIN:VEVENT
UID:d8ecffa8-ce7e-4ecb-b470-80a7cc719d88
DTSTAMP:20260420T184556Z
DTSTART;VALUE=DATE:20260415
SUMMARY:Nanumaga Day (Tuvalu)
END:VEVENT
END:VCALENDAR