BEGIN:VCALENDAR
VERSION:2.0
PRODID:-//time.now/holidays//NONSGML v1.0//EN
BEGIN:VEVENT
UID:a015d5bd-e5c6-450a-9f8b-2e311c1d6490
DTSTAMP:20260420T213716Z
DTSTART;VALUE=DATE:20330415
SUMMARY:Good Friday; Nanumaga Day (Tuvalu)
END:VEVENT
END:VCALENDAR