BEGIN:VCALENDAR
VERSION:2.0
PRODID:-//time.now/holidays//NONSGML v1.0//EN
BEGIN:VEVENT
UID:83eafe87-92f0-4ee1-912a-9e75d8384838
DTSTAMP:20260420T122112Z
DTSTART;VALUE=DATE:20260108
SUMMARY:Golden Jubilee (Tuvalu)
END:VEVENT
END:VCALENDAR