BEGIN:VCALENDAR
VERSION:2.0
PRODID:-//time.now/holidays//NONSGML v1.0//EN
BEGIN:VEVENT
UID:7740f05e-bdd4-4068-8bac-7c3a4eb8ba63
DTSTAMP:20260422T164632Z
DTSTART;VALUE=DATE:20260925
SUMMARY:National Youth Day (Îles Turks-et-Caïcos)
END:VEVENT
END:VCALENDAR