BEGIN:VCALENDAR
VERSION:2.0
PRODID:-//time.now/holidays//NONSGML v1.0//EN
BEGIN:VEVENT
UID:2552ce54-27c4-4526-a903-33b24fe8d8bf
DTSTAMP:20260422T090723Z
DTSTART;VALUE=DATE:20260525
SUMMARY:JAGS McCartney Day (Îles Turks-et-Caïcos)
END:VEVENT
END:VCALENDAR