BEGIN:VCALENDAR
VERSION:2.0
PRODID:-//time.now/holidays//NONSGML v1.0//EN
BEGIN:VEVENT
UID:522015bd-efd9-4c9e-8286-8c833c34a284
DTSTAMP:20260420T214632Z
DTSTART;VALUE=DATE:20260403
SUMMARY:Good Friday (Îles Turks-et-Caïcos)
END:VEVENT
END:VCALENDAR