BEGIN:VCALENDAR
VERSION:2.0
PRODID:-//time.now/holidays//NONSGML v1.0//EN
BEGIN:VEVENT
UID:1d856d46-8175-44b3-9b98-3514c82a823e
DTSTAMP:20260422T020916Z
DTSTART;VALUE=DATE:20261225
SUMMARY:Christmas Day (Îles Turks-et-Caïcos)
END:VEVENT
END:VCALENDAR