BEGIN:VCALENDAR
VERSION:2.0
PRODID:-//time.now/holidays//NONSGML v1.0//EN
BEGIN:VEVENT
UID:7a5c3906-c86e-44b2-b750-63f5c8814513
DTSTAMP:20260422T100650Z
DTSTART;VALUE=DATE:20260423
SUMMARY:National Sovereignty and Children's Day (Turquie)
END:VEVENT
END:VCALENDAR