BEGIN:VCALENDAR
VERSION:2.0
PRODID:-//time.now/holidays//NONSGML v1.0//EN
BEGIN:VEVENT
UID:6f0f60ab-157a-45bd-9946-a583099acfc9
DTSTAMP:20260423T030311Z
DTSTART;VALUE=DATE:20260320
SUMMARY:Eid al-Fitr (Turquie)
END:VEVENT
END:VCALENDAR