BEGIN:VCALENDAR
VERSION:2.0
PRODID:-//time.now/holidays//NONSGML v1.0//EN
BEGIN:VEVENT
UID:7a867368-0732-48b1-854f-000f7ae9d1dc
DTSTAMP:20260421T012132Z
DTSTART;VALUE=DATE:20260519
SUMMARY:Commemoration of Atatürk, Youth and Sports Day (Turquie)
END:VEVENT
END:VCALENDAR