BEGIN:VCALENDAR
VERSION:2.0
PRODID:-//time.now/holidays//NONSGML v1.0//EN
BEGIN:VEVENT
UID:811acf95-3ab6-4aad-8742-da6540c64c0b
DTSTAMP:20260420T204813Z
DTSTART;VALUE=DATE:20270309
SUMMARY:Eid al-Fitr (estimated) (Tunisie)
END:VEVENT
END:VCALENDAR