BEGIN:VCALENDAR
VERSION:2.0
PRODID:-//time.now/holidays//NONSGML v1.0//EN
BEGIN:VEVENT
UID:35452651-7330-4d61-a922-2c6b1e2aab2c
DTSTAMP:20260422T174405Z
DTSTART;VALUE=DATE:20280925
SUMMARY:Republic Day (observed) (Trinité-et-Tobago)
END:VEVENT
END:VCALENDAR